BEGIN:VCALENDAR
VERSION:2.0
PRODID:-//SUAS PRO - ECPv6.15.17.1//NONSGML v1.0//EN
CALSCALE:GREGORIAN
METHOD:PUBLISH
X-ORIGINAL-URL:https://suas-professional.com
X-WR-CALDESC:Events for SUAS PRO
REFRESH-INTERVAL;VALUE=DURATION:PT1H
X-Robots-Tag:noindex
X-PUBLISHED-TTL:PT1H
BEGIN:VTIMEZONE
TZID:America/Los_Angeles
BEGIN:DAYLIGHT
TZOFFSETFROM:-0800
TZOFFSETTO:-0700
TZNAME:PDT
DTSTART:20230312T100000
END:DAYLIGHT
BEGIN:STANDARD
TZOFFSETFROM:-0700
TZOFFSETTO:-0800
TZNAME:PST
DTSTART:20231105T090000
END:STANDARD
BEGIN:DAYLIGHT
TZOFFSETFROM:-0800
TZOFFSETTO:-0700
TZNAME:PDT
DTSTART:20240310T100000
END:DAYLIGHT
BEGIN:STANDARD
TZOFFSETFROM:-0700
TZOFFSETTO:-0800
TZNAME:PST
DTSTART:20241103T090000
END:STANDARD
BEGIN:DAYLIGHT
TZOFFSETFROM:-0800
TZOFFSETTO:-0700
TZNAME:PDT
DTSTART:20250309T100000
END:DAYLIGHT
BEGIN:STANDARD
TZOFFSETFROM:-0700
TZOFFSETTO:-0800
TZNAME:PST
DTSTART:20251102T090000
END:STANDARD
END:VTIMEZONE
BEGIN:VEVENT
DTSTART;TZID=America/Los_Angeles:20240320T160000
DTEND;TZID=America/Los_Angeles:20240320T180000
DTSTAMP:20260422T013647
CREATED:20231231T203110Z
LAST-MODIFIED:20231231T203110Z
UID:10000141-1710950400-1710957600@suas-professional.com
SUMMARY:March 20th Class Requirements
DESCRIPTION:Remote Pilot Training Program as stated in Workshop #8\, Case Study #3 DUE TODAY.  This is a major part of your Final Exam Score.
URL:https://suas-professional.com/calendar/march-20th-class-requirements/
CATEGORIES:UAS Management UAS 210
END:VEVENT
BEGIN:VEVENT
DTSTART;TZID=America/Los_Angeles:20240318T160000
DTEND;TZID=America/Los_Angeles:20240318T180000
DTSTAMP:20260422T013647
CREATED:20231231T202921Z
LAST-MODIFIED:20231231T202921Z
UID:10000140-1710777600-1710784800@suas-professional.com
SUMMARY:March 18th - Class Requirements - Final online exam
DESCRIPTION:FINAL EXAM (online while in class)
URL:https://suas-professional.com/calendar/march-18th-class-requirements-final-online-exam/
CATEGORIES:UAS Management UAS 210
END:VEVENT
BEGIN:VEVENT
DTSTART;TZID=America/Los_Angeles:20240313T160000
DTEND;TZID=America/Los_Angeles:20240313T180000
DTSTAMP:20260422T013647
CREATED:20231231T202806Z
LAST-MODIFIED:20231231T202806Z
UID:10000139-1710345600-1710352800@suas-professional.com
SUMMARY:March 13th Class Requirements
DESCRIPTION:We will show all presentations in Chapter 11.
URL:https://suas-professional.com/calendar/march-13th-class-requirements/
CATEGORIES:UAS Management UAS 210
END:VEVENT
BEGIN:VEVENT
DTSTART;TZID=America/Los_Angeles:20240311T160000
DTEND;TZID=America/Los_Angeles:20240311T180000
DTSTAMP:20260422T013647
CREATED:20231231T202654Z
LAST-MODIFIED:20231231T202654Z
UID:10000138-1710172800-1710180000@suas-professional.com
SUMMARY:March 11th Class Requirements
DESCRIPTION:We will present all Chapter 10 presentations and then give an online quiz.  REMEMBER YOU ARE REQUIRED to upload the “Remote Pilot Training Program” as stated in Workshop #8\, Case Study #3 no later than March 20th.  This is their requirement for final exam points. \nHomework:  Read Chapter 11
URL:https://suas-professional.com/calendar/march-11th-class-requirements/
CATEGORIES:UAS Management UAS 210
END:VEVENT
BEGIN:VEVENT
DTSTART;TZID=America/Los_Angeles:20240306T160000
DTEND;TZID=America/Los_Angeles:20240306T180000
DTSTAMP:20260422T013647
CREATED:20231231T202417Z
LAST-MODIFIED:20231231T202417Z
UID:10000137-1709740800-1709748000@suas-professional.com
SUMMARY:March 6th Class Requirements
DESCRIPTION:We will Present modules 1 and 2 of Chapter 9.  Give the online quiz. \nHomework:  Read Chapter 10
URL:https://suas-professional.com/calendar/march-6th-class-requirements/
CATEGORIES:UAS Management UAS 210
END:VEVENT
BEGIN:VEVENT
DTSTART;TZID=America/Los_Angeles:20240304T160000
DTEND;TZID=America/Los_Angeles:20240304T180000
DTSTAMP:20260422T013647
CREATED:20231231T202302Z
LAST-MODIFIED:20231231T202302Z
UID:10000136-1709568000-1709575200@suas-professional.com
SUMMARY:March 4th Class Requirements
DESCRIPTION:We will go over the last 7 modules of Chapter 8 \nHomework:  Complete workshop 8 – Case study #3  This is due no later than March 20 (a Remote Pilot Operator Training Program). This is part of the final EXAM requirement.  Also\, READ Chapter 9 \nThis is a critical piece of the program.  Be sure you complete this ON TIME.
URL:https://suas-professional.com/calendar/march-4th-class-requirements/
CATEGORIES:UAS Management UAS 210
END:VEVENT
BEGIN:VEVENT
DTSTART;TZID=America/Los_Angeles:20240228T160000
DTEND;TZID=America/Los_Angeles:20240228T180000
DTSTAMP:20260422T013647
CREATED:20231231T202052Z
LAST-MODIFIED:20231231T202052Z
UID:10000135-1709136000-1709143200@suas-professional.com
SUMMARY:February 28th Class Requirements
DESCRIPTION:We will see Module 1 – 5 of Chapter eight
URL:https://suas-professional.com/calendar/february-28th-class-requirements/
CATEGORIES:UAS Management UAS 210
END:VEVENT
BEGIN:VEVENT
DTSTART;TZID=America/Los_Angeles:20240226T160000
DTEND;TZID=America/Los_Angeles:20240226T180000
DTSTAMP:20260422T013647
CREATED:20231231T201933Z
LAST-MODIFIED:20231231T201933Z
UID:10000134-1708963200-1708970400@suas-professional.com
SUMMARY:February 26th Class Requirements
DESCRIPTION:Workshop 7 – we will go through the last part of the presentation and then complete the online quiz \nHomework:  read Chapter eight – operational management
URL:https://suas-professional.com/calendar/february-26th-class-requirements/
CATEGORIES:UAS Management UAS 210
END:VEVENT
BEGIN:VEVENT
DTSTART;TZID=America/Los_Angeles:20240221T160000
DTEND;TZID=America/Los_Angeles:20240221T180000
DTSTAMP:20260422T013647
CREATED:20231231T201806Z
LAST-MODIFIED:20231231T201806Z
UID:10000133-1708531200-1708538400@suas-professional.com
SUMMARY:February 21st Class Requirments
DESCRIPTION:There will be NO CLASS today.  Use this time to ensure you understand all that has been lectured and discussed.  Use your time wisely. \n 
URL:https://suas-professional.com/calendar/february-21st-class-requirments/
CATEGORIES:UAS Management UAS 210
END:VEVENT
BEGIN:VEVENT
DTSTART;TZID=America/Los_Angeles:20240219T160000
DTEND;TZID=America/Los_Angeles:20240219T180000
DTSTAMP:20260422T013647
CREATED:20231231T201623Z
LAST-MODIFIED:20231231T201623Z
UID:10000132-1708358400-1708365600@suas-professional.com
SUMMARY:February 19th Class Requirements
DESCRIPTION:Workshop 7 – we will go through ½ of the presentations (there are 9 of them plus a quiz)
URL:https://suas-professional.com/calendar/february-19th-class-requirements/
CATEGORIES:UAS Management UAS 210
END:VEVENT
BEGIN:VEVENT
DTSTART;TZID=America/Los_Angeles:20240214T160000
DTEND;TZID=America/Los_Angeles:20240214T180000
DTSTAMP:20260422T013647
CREATED:20231231T201430Z
LAST-MODIFIED:20231231T201430Z
UID:10000131-1707926400-1707933600@suas-professional.com
SUMMARY:February 14th Class Requirements
DESCRIPTION:Project Management Fundamentals – Modules 3 and 4 \nHomework:  Complete the online quiz by February 19th)
URL:https://suas-professional.com/calendar/february-14th-class-requirements/
CATEGORIES:UAS Management UAS 210
END:VEVENT
BEGIN:VEVENT
DTSTART;TZID=America/Los_Angeles:20240212T160000
DTEND;TZID=America/Los_Angeles:20240212T180000
DTSTAMP:20260422T013647
CREATED:20231231T201240Z
LAST-MODIFIED:20231231T201240Z
UID:10000130-1707753600-1707760800@suas-professional.com
SUMMARY:February 12th Class Requirements
DESCRIPTION:Project Management Fundamentals – Module 1 and 2 – Lecture \nHome work:  read Chapter 7 (complete reading by 19th)
URL:https://suas-professional.com/calendar/february-12th-class-requirements/
CATEGORIES:UAS Management UAS 210
END:VEVENT
BEGIN:VEVENT
DTSTART;TZID=America/Los_Angeles:20240207T160000
DTEND;TZID=America/Los_Angeles:20240207T180000
DTSTAMP:20260422T013647
CREATED:20231231T201020Z
LAST-MODIFIED:20231231T201020Z
UID:10000129-1707321600-1707328800@suas-professional.com
SUMMARY:February 7th Class Requirement - Mid Term exam
DESCRIPTION:Take mid-term exam on Textbook (chapters 1-6) \nHomework:  upload the essay on the final question for Chase #2 (see workshop 6 – mid-term exam) \nThis needs to be completed by February 12th
URL:https://suas-professional.com/calendar/february-7th-class-requirement-mid-term-exam/
CATEGORIES:UAS Management UAS 210
END:VEVENT
BEGIN:VEVENT
DTSTART;TZID=America/Los_Angeles:20240205T160000
DTEND;TZID=America/Los_Angeles:20240205T180000
DTSTAMP:20260422T013647
CREATED:20231231T200854Z
LAST-MODIFIED:20231231T200854Z
UID:10000128-1707148800-1707156000@suas-professional.com
SUMMARY:February 5th Class Requirements
DESCRIPTION:Confirmation all requirements of the case studies have been completed.  All exams and finished. \nReview requirements. \nHomework:  Read Chapter 5\, View presentations\, and take the Quiz (online)
URL:https://suas-professional.com/calendar/february-5th-class-requirements/
CATEGORIES:UAS Management UAS 210
END:VEVENT
BEGIN:VEVENT
DTSTART;TZID=America/Los_Angeles:20240131T160000
DTEND;TZID=America/Los_Angeles:20240131T180000
DTSTAMP:20260422T013647
CREATED:20231231T200704Z
LAST-MODIFIED:20231231T200704Z
UID:10000127-1706716800-1706724000@suas-professional.com
SUMMARY:January 31st Class Requirements
DESCRIPTION:  \nNo Scheduled Class this day.  Devote the date on doing a good job regarding the Case Study. \nStudents need to ensure all work is completed by Feb 5th
URL:https://suas-professional.com/calendar/january-31st-class-requirements/
CATEGORIES:UAS Management UAS 210
END:VEVENT
BEGIN:VEVENT
DTSTART;TZID=America/Los_Angeles:20240129T160000
DTEND;TZID=America/Los_Angeles:20240129T180000
DTSTAMP:20260422T013647
CREATED:20231231T200529Z
LAST-MODIFIED:20231231T200529Z
UID:10000126-1706544000-1706551200@suas-professional.com
SUMMARY:January 29th Requirements
DESCRIPTION:complete Workshop 5 – Case Study #2.  This needs to be accomplished by Feb 5th) \nNo homework.  Use this day wisely and do a good job with this case. \nNo Scheduled Class this day \n 
URL:https://suas-professional.com/calendar/january-29th-requirements/
CATEGORIES:UAS Management UAS 210
END:VEVENT
BEGIN:VEVENT
DTSTART;TZID=America/Los_Angeles:20240124T160000
DTEND;TZID=America/Los_Angeles:20240124T180000
DTSTAMP:20260422T013647
CREATED:20231231T200239Z
LAST-MODIFIED:20231231T200239Z
UID:10000125-1706112000-1706119200@suas-professional.com
SUMMARY:January 24th Class Requirements
DESCRIPTION:Chapter 5 – Execution and post-flight procedures \nView the presentations. Take the quiz \nHomework complete Chapter 5 assignment before the next class.
URL:https://suas-professional.com/calendar/january-24th-class-requirements/
CATEGORIES:UAS Management UAS 210
END:VEVENT
BEGIN:VEVENT
DTSTART;TZID=America/Los_Angeles:20240122T160000
DTEND;TZID=America/Los_Angeles:20240122T180000
DTSTAMP:20260422T013647
CREATED:20231231T200044Z
LAST-MODIFIED:20231231T200044Z
UID:10000124-1705939200-1705946400@suas-professional.com
SUMMARY:Class Requirements
DESCRIPTION:This is an optional addended class.  Use this time to study and complete the workshop. \nChapter 4 – Regulatory System \nStart working on workshop #4 as stated online. All must be completed before the next class. \nHomework:  Read Chapter 5
URL:https://suas-professional.com/calendar/class-requirements/
CATEGORIES:UAS Management UAS 210
END:VEVENT
BEGIN:VEVENT
DTSTART;TZID=America/Los_Angeles:20240117T160000
DTEND;TZID=America/Los_Angeles:20240117T180000
DTSTAMP:20260422T013647
CREATED:20231231T195627Z
LAST-MODIFIED:20231231T195809Z
UID:10000123-1705507200-1705514400@suas-professional.com
SUMMARY:January 17th Requirements
DESCRIPTION:This is an optional attended class.  Just be sure to complete the following on this date.  Use this time wisely. \nRead Chapter 3 – Workshop 3 \nUse the class time for a study/research/workshop \nHomework:  Read Chapter 4 – Regulatory System and take the quiz (online)
URL:https://suas-professional.com/calendar/january-17th-requirements/
CATEGORIES:UAS Management UAS 210
END:VEVENT
BEGIN:VEVENT
DTSTART;TZID=America/Los_Angeles:20240115T160000
DTEND;TZID=America/Los_Angeles:20240115T180000
DTSTAMP:20260422T013647
CREATED:20231231T195510Z
LAST-MODIFIED:20231231T195510Z
UID:10000122-1705334400-1705341600@suas-professional.com
SUMMARY:January 15th Requirements
DESCRIPTION:Chapter 3 – Management Considerations. \nView the Lecture Videos. \nTake the Chapter 3 Quiz online \nStart researching assignments under UAS and Ethics. \nUpload your papers before the next class on Wednesday (January 17th).
URL:https://suas-professional.com/calendar/january-15th-requirements/
CATEGORIES:UAS Management UAS 210
END:VEVENT
BEGIN:VEVENT
DTSTART;TZID=America/Los_Angeles:20240110T160000
DTEND;TZID=America/Los_Angeles:20240110T180000
DTSTAMP:20260422T013647
CREATED:20231231T195341Z
LAST-MODIFIED:20231231T195341Z
UID:10000121-1704902400-1704909600@suas-professional.com
SUMMARY:January 10th Requirements
DESCRIPTION:Managing an Effective Program \nConfirm everyone has read the Chapter \nHave everyone get online and take the quiz (unless they already have). \nWorkshop #2 \nHave each student read “Decision Making “ under the materials tab. Be sure to have them complete the interactive quiz and videos during their reading. \nIn the end\, obtain a copy of the “Decision Making” document and take the 10-minute quiz (online) – an open book. \nHomework:  Read Chapter 3 “Management Considerations”.
URL:https://suas-professional.com/calendar/january-10th-requirements/
CATEGORIES:UAS Management UAS 210
END:VEVENT
BEGIN:VEVENT
DTSTART;TZID=America/Los_Angeles:20240108T160000
DTEND;TZID=America/Los_Angeles:20240108T180000
DTSTAMP:20260422T013647
CREATED:20231231T195022Z
LAST-MODIFIED:20231231T195022Z
UID:10000120-1704729600-1704736800@suas-professional.com
SUMMARY:January 8th Class Requirements
DESCRIPTION:Introduction.  Each person introduces themselves and give a little information about them. \nHand out the Textbook (or confirm everyone has one). \nConfirm everyone has reviewed (viewed) the content in Chapter 1 (the “welcome” videos) \nWe will show the Presentation “What is a Case Study” – Workshop #1.  You will be given handouts (also located in the Materials tab). \nRequires in-class participation. \nHomework: \n\nRead Chapter 2 – Managing an effective program\nWait until the next class to take the 10-minute quiz.
URL:https://suas-professional.com/calendar/january-8th-class-requirements/
CATEGORIES:UAS Management UAS 210
ORGANIZER;CN="Mike Davis":MAILTO:mdavis@cgcc.edu
END:VEVENT
END:VCALENDAR